BEGIN:VCALENDAR
VERSION:2.0
PRODID:-//RAHORAC - ECPv6.15.20//NONSGML v1.0//EN
CALSCALE:GREGORIAN
METHOD:PUBLISH
X-ORIGINAL-URL:https://rahorac.com
X-WR-CALDESC:Events for RAHORAC
REFRESH-INTERVAL;VALUE=DURATION:PT1H
X-Robots-Tag:noindex
X-PUBLISHED-TTL:PT1H
BEGIN:VTIMEZONE
TZID:Asia/Dubai
BEGIN:STANDARD
TZOFFSETFROM:+0400
TZOFFSETTO:+0400
TZNAME:+04
DTSTART:20230101T000000
END:STANDARD
END:VTIMEZONE
BEGIN:VEVENT
DTSTART;VALUE=DATE:20240202
DTEND;VALUE=DATE:20240204
DTSTAMP:20260425T161058
CREATED:20230704T145806Z
LAST-MODIFIED:20240119T215216Z
UID:729-1706832000-1707004799@rahorac.com
SUMMARY:Family Fun Trip (Wahiba)
DESCRIPTION:Registration is NOW OPEN for our Family Camping Trip to the breathtaking Wahiba Sands!  Join us for an unforgettable adventure on the 2nd and 3rd of February! \n\nImmerse yourself in the beauty of the desert\, create lasting memories with your loved ones under the starlit sky with campfires\, films and fun.\nDon’t miss out on the chance to be part of this incredible experience! Secure your spot now by registering at rge link below. Spaces are limited\, so act fast and ensure your family’s spot in this memorable adventure.\nPack your 4×4’s\, gather the family\, and let’s go camping\n\n \nLink to web page Family Trips – RAHORAC \nLink to Registration – HERE
URL:https://rahorac.com/event/family-fun-trip-4/
CATEGORIES:Family Fun Trip Wahiba
END:VEVENT
END:VCALENDAR