BEGIN:VCALENDAR
VERSION:2.0
PRODID:-//RAHORAC - ECPv6.15.20//NONSGML v1.0//EN
CALSCALE:GREGORIAN
METHOD:PUBLISH
X-ORIGINAL-URL:https://rahorac.com
X-WR-CALDESC:Events for RAHORAC
REFRESH-INTERVAL;VALUE=DURATION:PT1H
X-Robots-Tag:noindex
X-PUBLISHED-TTL:PT1H
BEGIN:VTIMEZONE
TZID:UTC
BEGIN:STANDARD
TZOFFSETFROM:+0000
TZOFFSETTO:+0000
TZNAME:UTC
DTSTART:20220101T000000
END:STANDARD
END:VTIMEZONE
BEGIN:VEVENT
DTSTART;VALUE=DATE:20231220
DTEND;VALUE=DATE:20240105
DTSTAMP:20260426T002049
CREATED:20230704T131041Z
LAST-MODIFIED:20230704T131041Z
UID:707-1703030400-1704412799@rahorac.com
SUMMARY:PDO School Holidays
DESCRIPTION:
URL:https://rahorac.com/event/pdo-school-holidays-2/
CATEGORIES:Holidays
END:VEVENT
BEGIN:VEVENT
DTSTART;VALUE=DATE:20231221
DTEND;VALUE=DATE:20240105
DTSTAMP:20260426T002049
CREATED:20230704T131127Z
LAST-MODIFIED:20230704T131127Z
UID:709-1703116800-1704412799@rahorac.com
SUMMARY:BSM School Holidays
DESCRIPTION:
URL:https://rahorac.com/event/bsm-school-holidays-3/
CATEGORIES:Holidays
END:VEVENT
END:VCALENDAR