BEGIN:VCALENDAR
VERSION:2.0
PRODID:-//RAHORAC - ECPv6.15.20//NONSGML v1.0//EN
CALSCALE:GREGORIAN
METHOD:PUBLISH
X-ORIGINAL-URL:https://rahorac.com
X-WR-CALDESC:Events for RAHORAC
REFRESH-INTERVAL;VALUE=DURATION:PT1H
X-Robots-Tag:noindex
X-PUBLISHED-TTL:PT1H
BEGIN:VTIMEZONE
TZID:UTC
BEGIN:STANDARD
TZOFFSETFROM:+0000
TZOFFSETTO:+0000
TZNAME:UTC
DTSTART:20220101T000000
END:STANDARD
END:VTIMEZONE
BEGIN:VEVENT
DTSTART;TZID=UTC:20231211T190000
DTEND;TZID=UTC:20231211T210000
DTSTAMP:20260425T223307
CREATED:20230704T131253Z
LAST-MODIFIED:20231209T133602Z
UID:711-1702321200-1702328400@rahorac.com
SUMMARY:Theory Training for WC
DESCRIPTION:The next Theory Training Event will take place on 11th December 2023 \nTime: 7:00pm \nLocation: RAH Golf Club (membership is not required) \n \nRegistration for this event has now closed \nWeb Page Here
URL:https://rahorac.com/event/theory-training-for-wc/
CATEGORIES:Training
ATTACH;FMTTYPE=image/jpeg:https://rahorac.com/wp-content/uploads/2023/02/web-slider-theory-training-scaled.jpg
END:VEVENT
END:VCALENDAR