BEGIN:VCALENDAR
VERSION:2.0
PRODID:-//RAHORAC - ECPv6.15.20//NONSGML v1.0//EN
CALSCALE:GREGORIAN
METHOD:PUBLISH
X-WR-CALNAME:RAHORAC
X-ORIGINAL-URL:https://rahorac.com
X-WR-CALDESC:Events for RAHORAC
REFRESH-INTERVAL;VALUE=DURATION:PT1H
X-Robots-Tag:noindex
X-PUBLISHED-TTL:PT1H
BEGIN:VTIMEZONE
TZID:UTC
BEGIN:STANDARD
TZOFFSETFROM:+0000
TZOFFSETTO:+0000
TZNAME:UTC
DTSTART:20220101T000000
END:STANDARD
END:VTIMEZONE
BEGIN:VEVENT
DTSTART;VALUE=DATE:20231026
DTEND;VALUE=DATE:20231027
DTSTAMP:20260424T040937
CREATED:20230704T130000Z
LAST-MODIFIED:20230704T130000Z
UID:693-1698278400-1698364799@rahorac.com
SUMMARY:XWC Eve
DESCRIPTION:
URL:https://rahorac.com/event/xwc-eve/
CATEGORIES:Extreme WC
END:VEVENT
BEGIN:VEVENT
DTSTART;VALUE=DATE:20231015
DTEND;VALUE=DATE:20231016
DTSTAMP:20260424T040937
CREATED:20230704T115450Z
LAST-MODIFIED:20230704T115450Z
UID:687-1697328000-1697414399@rahorac.com
SUMMARY:Registration of Team Data for XWC closes
DESCRIPTION:
URL:https://rahorac.com/event/registration-of-team-data-for-xwc-closes/
CATEGORIES:Extreme WC
END:VEVENT
BEGIN:VEVENT
DTSTART;VALUE=DATE:20231011
DTEND;VALUE=DATE:20231016
DTSTAMP:20260424T040937
CREATED:20230704T115245Z
LAST-MODIFIED:20231015T224550Z
UID:683-1696982400-1697414399@rahorac.com
SUMMARY:Registration of Team Data for XWC closed
DESCRIPTION:
URL:https://rahorac.com/event/registration-of-team-data-for-xwc-open/
CATEGORIES:Extreme WC
END:VEVENT
BEGIN:VEVENT
DTSTART;VALUE=DATE:20231008
DTEND;VALUE=DATE:20231009
DTSTAMP:20260424T040937
CREATED:20230704T115128Z
LAST-MODIFIED:20231015T224516Z
UID:681-1696723200-1696809599@rahorac.com
SUMMARY:Registration for XWC closed
DESCRIPTION:  \n  \nRegistration has closed \nWeb Page HERE \n  \n \n 
URL:https://rahorac.com/event/registration-for-xwc-open/
CATEGORIES:Extreme WC
END:VEVENT
BEGIN:VEVENT
DTSTART;TZID=UTC:20230317T180000
DTEND;TZID=UTC:20230317T230000
DTSTAMP:20260424T040937
CREATED:20230202T153240Z
LAST-MODIFIED:20230204T163713Z
UID:62-1679076000-1679094000@rahorac.com
SUMMARY:Wahiba Challenge Celebration Dinner 19th March
DESCRIPTION:This event is included for WC\, WC Lite and XWC participants and family
URL:https://rahorac.com/event/wahiba-challenge-celebration-dinner-19th-march/
LOCATION:Ras Al Hamra RC Golf Club
CATEGORIES:Extreme WC,Wahiba Challenge,WC Dinner,WC Lite
END:VEVENT
BEGIN:VEVENT
DTSTART;VALUE=DATE:20230303
DTEND;VALUE=DATE:20230305
DTSTAMP:20260424T040937
CREATED:20230204T163440Z
LAST-MODIFIED:20230204T163440Z
UID:239-1677801600-1677974399@rahorac.com
SUMMARY:Wahiba Lite and Long 3rd 4th March
DESCRIPTION:
URL:https://rahorac.com/event/wahiba-lite-and-long-3rd-4th-march/
LOCATION:Wahiba Sands
CATEGORIES:Wahiba Challenge,WC Lite
END:VEVENT
BEGIN:VEVENT
DTSTART;VALUE=DATE:20230216
DTEND;VALUE=DATE:20230219
DTSTAMP:20260424T040937
CREATED:20230202T130124Z
LAST-MODIFIED:20230206T160257Z
UID:46-1676505600-1676764799@rahorac.com
SUMMARY:Wahiba Challenge 16th - 18th Feb
DESCRIPTION:The classic annual event. Registered teams will be given the start location and are expected to arrive on the thursday evening (dinner provided) or early Friday morning. Route details will be handed out at the Friday morning start point.
URL:https://rahorac.com/event/add-event-5th-feb/
LOCATION:Wahiba Sands
CATEGORIES:Extreme WC,Wahiba Challenge,WC Dinner,WC Lite
END:VEVENT
END:VCALENDAR