BEGIN:VCALENDAR
VERSION:2.0
PRODID:-//RAHORAC - ECPv6.15.20//NONSGML v1.0//EN
CALSCALE:GREGORIAN
METHOD:PUBLISH
X-WR-CALNAME:RAHORAC
X-ORIGINAL-URL:https://rahorac.com
X-WR-CALDESC:Events for RAHORAC
REFRESH-INTERVAL;VALUE=DURATION:PT1H
X-Robots-Tag:noindex
X-PUBLISHED-TTL:PT1H
BEGIN:VTIMEZONE
TZID:Asia/Dubai
BEGIN:STANDARD
TZOFFSETFROM:+0400
TZOFFSETTO:+0400
TZNAME:+04
DTSTART:20250101T000000
END:STANDARD
END:VTIMEZONE
BEGIN:VEVENT
DTSTART;VALUE=DATE:20260206
DTEND;VALUE=DATE:20260208
DTSTAMP:20260424T012431
CREATED:20250721T214930Z
LAST-MODIFIED:20260204T201406Z
UID:3650-1770336000-1770508799@rahorac.com
SUMMARY:Family Fun Wahiba Sands Trip
DESCRIPTION:Registration is closed
URL:https://rahorac.com/event/family-fun-wadi-trip/
CATEGORIES:Family Fun Trip Wadi
END:VEVENT
BEGIN:VEVENT
DTSTART;VALUE=DATE:20260327
DTEND;VALUE=DATE:20260328
DTSTAMP:20260424T012431
CREATED:20250721T215037Z
LAST-MODIFIED:20260321T142829Z
UID:3652-1774569600-1774655999@rahorac.com
SUMMARY:Family Fun Wadi Trip
DESCRIPTION:Note: this is a single day event – no camping is planned. \nDUE TO SERIOUS ADVERSE WEATHER FORECAST\, THIS TRIP HAS BEEN CANCELLED.
URL:https://rahorac.com/event/family-fun-wadi-trip-2/
CATEGORIES:Family Fun Trip Wadi
END:VEVENT
BEGIN:VEVENT
DTSTART;VALUE=DATE:20260424
DTEND;VALUE=DATE:20260426
DTSTAMP:20260424T012431
CREATED:20250721T215133Z
LAST-MODIFIED:20260415T120624Z
UID:3654-1776988800-1777161599@rahorac.com
SUMMARY:Family Fun Mountain Trip
DESCRIPTION:Lst trip of the season\, a 2 day camping trip to Jebel Shamms \nlink to online registration here \nLink to Webpage here
URL:https://rahorac.com/event/family-fun-mountain-trip-2/
CATEGORIES:Family Fun Trip Mountains
END:VEVENT
END:VCALENDAR