BEGIN:VCALENDAR
VERSION:2.0
PRODID:-//RAHORAC - ECPv6.15.20//NONSGML v1.0//EN
CALSCALE:GREGORIAN
METHOD:PUBLISH
X-WR-CALNAME:RAHORAC
X-ORIGINAL-URL:https://rahorac.com
X-WR-CALDESC:Events for RAHORAC
REFRESH-INTERVAL;VALUE=DURATION:PT1H
X-Robots-Tag:noindex
X-PUBLISHED-TTL:PT1H
BEGIN:VTIMEZONE
TZID:UTC
BEGIN:STANDARD
TZOFFSETFROM:+0000
TZOFFSETTO:+0000
TZNAME:UTC
DTSTART:20220101T000000
END:STANDARD
END:VTIMEZONE
BEGIN:VTIMEZONE
TZID:Asia/Dubai
BEGIN:STANDARD
TZOFFSETFROM:+0400
TZOFFSETTO:+0400
TZNAME:+04
DTSTART:20220101T000000
END:STANDARD
END:VTIMEZONE
BEGIN:VEVENT
DTSTART;VALUE=DATE:20231122
DTEND;VALUE=DATE:20231124
DTSTAMP:20260425T160657
CREATED:20230704T130448Z
LAST-MODIFIED:20230704T130448Z
UID:703-1700611200-1700783999@rahorac.com
SUMMARY:BSM School Holidays
DESCRIPTION:
URL:https://rahorac.com/event/bsm-school-holidays-2/
CATEGORIES:Holidays
END:VEVENT
BEGIN:VEVENT
DTSTART;VALUE=DATE:20231122
DTEND;VALUE=DATE:20231124
DTSTAMP:20260425T160657
CREATED:20230704T130413Z
LAST-MODIFIED:20230704T130413Z
UID:701-1700611200-1700783999@rahorac.com
SUMMARY:PDO School Holiday
DESCRIPTION:
URL:https://rahorac.com/event/pdo-school-holiday/
CATEGORIES:Holidays
END:VEVENT
BEGIN:VEVENT
DTSTART;VALUE=DATE:20231122
DTEND;VALUE=DATE:20231124
DTSTAMP:20260425T160657
CREATED:20230704T130334Z
LAST-MODIFIED:20230704T130334Z
UID:699-1700611200-1700783999@rahorac.com
SUMMARY:National Day
DESCRIPTION:
URL:https://rahorac.com/event/national-day/
CATEGORIES:Holidays
END:VEVENT
BEGIN:VEVENT
DTSTART;VALUE=DATE:20231110
DTEND;VALUE=DATE:20231112
DTSTAMP:20260425T160657
CREATED:20230704T130217Z
LAST-MODIFIED:20231108T130804Z
UID:697-1699574400-1699747199@rahorac.com
SUMMARY:Ladies Trip
DESCRIPTION:  \nREGISTRATION FOR THIS EVENT IS NOW CLOSED\nGo to Web Page – HERE
URL:https://rahorac.com/event/ladies-trip/
CATEGORIES:Ladies Trip
END:VEVENT
BEGIN:VEVENT
DTSTART;VALUE=DATE:20231027
DTEND;VALUE=DATE:20231029
DTSTAMP:20260425T160657
CREATED:20230704T130040Z
LAST-MODIFIED:20231022T101502Z
UID:695-1698364800-1698537599@rahorac.com
SUMMARY:XWC
DESCRIPTION:  \nWeb Page LINK
URL:https://rahorac.com/event/xwc/
CATEGORIES:Extreme WC
END:VEVENT
BEGIN:VEVENT
DTSTART;VALUE=DATE:20231026
DTEND;VALUE=DATE:20231027
DTSTAMP:20260425T160657
CREATED:20230704T130000Z
LAST-MODIFIED:20230704T130000Z
UID:693-1698278400-1698364799@rahorac.com
SUMMARY:XWC Eve
DESCRIPTION:
URL:https://rahorac.com/event/xwc-eve/
CATEGORIES:Extreme WC
END:VEVENT
BEGIN:VEVENT
DTSTART;VALUE=DATE:20231022
DTEND;VALUE=DATE:20231027
DTSTAMP:20260425T160657
CREATED:20230704T125832Z
LAST-MODIFIED:20230704T125832Z
UID:691-1697932800-1698364799@rahorac.com
SUMMARY:BSM School Holidays
DESCRIPTION:
URL:https://rahorac.com/event/bsm-school-holidays/
CATEGORIES:Holidays
END:VEVENT
BEGIN:VEVENT
DTSTART;VALUE=DATE:20231022
DTEND;VALUE=DATE:20231027
DTSTAMP:20260425T160657
CREATED:20230704T125752Z
LAST-MODIFIED:20230704T125752Z
UID:689-1697932800-1698364799@rahorac.com
SUMMARY:PDO School Holidays
DESCRIPTION:
URL:https://rahorac.com/event/pdo-school-holidays/
CATEGORIES:Holidays
END:VEVENT
BEGIN:VEVENT
DTSTART;VALUE=DATE:20231015
DTEND;VALUE=DATE:20231016
DTSTAMP:20260425T160657
CREATED:20230704T115450Z
LAST-MODIFIED:20230704T115450Z
UID:687-1697328000-1697414399@rahorac.com
SUMMARY:Registration of Team Data for XWC closes
DESCRIPTION:
URL:https://rahorac.com/event/registration-of-team-data-for-xwc-closes/
CATEGORIES:Extreme WC
END:VEVENT
BEGIN:VEVENT
DTSTART;VALUE=DATE:20231013
DTEND;VALUE=DATE:20231015
DTSTAMP:20260425T160657
CREATED:20230704T115345Z
LAST-MODIFIED:20231007T194836Z
UID:685-1697155200-1697327999@rahorac.com
SUMMARY:Family Fun Spooktacular Trip (Wahiba)
DESCRIPTION:The next family fun event in the Wahiba Sands is on 13/14th October. \nCheck below for registration. \n \nor use the following “LINK” to register. \nWeb Page is “HERE“
URL:https://rahorac.com/event/family-fun-trip-2/
CATEGORIES:Family Fun Trip,Family Fun Trip Wahiba
END:VEVENT
BEGIN:VEVENT
DTSTART;VALUE=DATE:20231011
DTEND;VALUE=DATE:20231016
DTSTAMP:20260425T160657
CREATED:20230704T115245Z
LAST-MODIFIED:20231015T224550Z
UID:683-1696982400-1697414399@rahorac.com
SUMMARY:Registration of Team Data for XWC closed
DESCRIPTION:
URL:https://rahorac.com/event/registration-of-team-data-for-xwc-open/
CATEGORIES:Extreme WC
END:VEVENT
BEGIN:VEVENT
DTSTART;VALUE=DATE:20231008
DTEND;VALUE=DATE:20231009
DTSTAMP:20260425T160657
CREATED:20230704T115128Z
LAST-MODIFIED:20231015T224516Z
UID:681-1696723200-1696809599@rahorac.com
SUMMARY:Registration for XWC closed
DESCRIPTION:  \n  \nRegistration has closed \nWeb Page HERE \n  \n \n 
URL:https://rahorac.com/event/registration-for-xwc-open/
CATEGORIES:Extreme WC
END:VEVENT
BEGIN:VEVENT
DTSTART;VALUE=DATE:20231006
DTEND;VALUE=DATE:20231008
DTSTAMP:20260425T160657
CREATED:20230704T152513Z
LAST-MODIFIED:20230927T104218Z
UID:751-1696550400-1696723199@rahorac.com
SUMMARY:Family Fun Trip Wadi/ Mountain.
DESCRIPTION:The next family fun trip will be a wadi trip to Wadi Arbeieen. \nThe trip will be 2 days\, camping at Dhabab Beach and returning via Wadi Dayqah. \nSpaces have become available and REGISTRATION has been reopened until midnight 1st October.\nRegistration Link – HERE \nweb page  – Wadi Trips – RAHORAC \n \n================================================ \n\nTrip Sponsor\nWe would like to give a  warm thank you to our friends at HUSAAK for offering ORAC an exclusive 10% discount on their water sports activities for this  upcoming trip to Wadi Arbeieen and Dayqah Dam. \nhttp://www.husaak.com \n\n  \n\n  \n  \n 
URL:https://rahorac.com/event/family-fun/
CATEGORIES:Family Fun Trip Wadi/ Mountain
END:VEVENT
BEGIN:VEVENT
DTSTART;VALUE=DATE:20230929
DTEND;VALUE=DATE:20231001
DTSTAMP:20260425T160657
CREATED:20230704T102600Z
LAST-MODIFIED:20230704T115811Z
UID:672-1695945600-1696118399@rahorac.com
SUMMARY:Practical Training Wahiba Sands
DESCRIPTION:
URL:https://rahorac.com/event/practica-training-wahiba-sands/
CATEGORIES:Training
END:VEVENT
BEGIN:VEVENT
DTSTART;VALUE=DATE:20230928
DTEND;VALUE=DATE:20230929
DTSTAMP:20260425T160657
CREATED:20230704T102445Z
LAST-MODIFIED:20230916T120028Z
UID:670-1695859200-1695945599@rahorac.com
SUMMARY:Prophets Birthday
DESCRIPTION:
URL:https://rahorac.com/event/prophets-birthday/
CATEGORIES:Holidays
END:VEVENT
BEGIN:VEVENT
DTSTART;VALUE=DATE:20230921
DTEND;VALUE=DATE:20230922
DTSTAMP:20260425T160657
CREATED:20230704T102336Z
LAST-MODIFIED:20230704T103033Z
UID:668-1695254400-1695340799@rahorac.com
SUMMARY:Registration for Practical Training will close 9pm
DESCRIPTION:
URL:https://rahorac.com/event/registration-for-practical-training-will-close/
CATEGORIES:Training
END:VEVENT
BEGIN:VEVENT
DTSTART;TZID=UTC:20230912T120000
DTEND;TZID=UTC:20230921T210000
DTSTAMP:20260425T160657
CREATED:20230704T101713Z
LAST-MODIFIED:20230704T102120Z
UID:664-1694520000-1695330000@rahorac.com
SUMMARY:Registration for Practical Training opens
DESCRIPTION:
URL:https://rahorac.com/event/family-fun-trip-mountains-stargazing/
CATEGORIES:Training
END:VEVENT
BEGIN:VEVENT
DTSTART;TZID=UTC:20230911T190000
DTEND;TZID=UTC:20230911T210000
DTSTAMP:20260425T160657
CREATED:20230704T152640Z
LAST-MODIFIED:20230907T054131Z
UID:753-1694458800-1694466000@rahorac.com
SUMMARY:Theory Training (for WC)
DESCRIPTION:PLEASE NOTE: \nRegistration for this event has been closed  due to high demand.
URL:https://rahorac.com/event/theory-training-for-wc-3/
CATEGORIES:Training
ATTACH;FMTTYPE=image/jpeg:https://rahorac.com/wp-content/uploads/2023/02/web-slider-theory-training-scaled.jpg
END:VEVENT
BEGIN:VEVENT
DTSTART;VALUE=DATE:20230827
DTEND;VALUE=DATE:20230828
DTSTAMP:20260425T160657
CREATED:20230704T101159Z
LAST-MODIFIED:20230704T101159Z
UID:662-1693094400-1693180799@rahorac.com
SUMMARY:BSM back to school
DESCRIPTION:
URL:https://rahorac.com/event/bsm-back-to-school/
CATEGORIES:Holidays
END:VEVENT
BEGIN:VEVENT
DTSTART;VALUE=DATE:20230826
DTEND;VALUE=DATE:20230827
DTSTAMP:20260425T160657
CREATED:20230825T200048Z
LAST-MODIFIED:20230826T100136Z
UID:881-1693008000-1693094399@rahorac.com
SUMMARY:TEST EXPORT DATA - 26/08/23
DESCRIPTION:
URL:https://rahorac.com/event/test-export-data-26-08-23/
END:VEVENT
BEGIN:VEVENT
DTSTART;VALUE=DATE:20230822
DTEND;VALUE=DATE:20230823
DTSTAMP:20260425T160657
CREATED:20230704T101040Z
LAST-MODIFIED:20230704T101040Z
UID:660-1692662400-1692748799@rahorac.com
SUMMARY:PDO back to school
DESCRIPTION:
URL:https://rahorac.com/event/pdo-back-to-school/
CATEGORIES:Holidays
END:VEVENT
BEGIN:VEVENT
DTSTART;VALUE=DATE:20230628
DTEND;VALUE=DATE:20230701
DTSTAMP:20260425T160657
CREATED:20230204T164443Z
LAST-MODIFIED:20230204T164443Z
UID:251-1687910400-1688169599@rahorac.com
SUMMARY:Eide Al Hadha Start (TBC)
DESCRIPTION:
URL:https://rahorac.com/event/eide-al-hadha-start-tbc/
CATEGORIES:Holidays
END:VEVENT
BEGIN:VEVENT
DTSTART;VALUE=DATE:20230628
DTEND;VALUE=DATE:20230701
DTSTAMP:20260425T160657
CREATED:20230204T164348Z
LAST-MODIFIED:20230204T165045Z
UID:249-1687910400-1688169599@rahorac.com
SUMMARY:PDO/ BSM Holidays Start 28th June
DESCRIPTION:
URL:https://rahorac.com/event/pdo-bsm-holidays-start-28th-june/
CATEGORIES:Holidays
END:VEVENT
BEGIN:VEVENT
DTSTART;VALUE=DATE:20230428
DTEND;VALUE=DATE:20230430
DTSTAMP:20260425T160657
CREATED:20230204T164153Z
LAST-MODIFIED:20230904T171131Z
UID:247-1682640000-1682812799@rahorac.com
SUMMARY:Family Fun Trip 28-29th April
DESCRIPTION:
URL:https://rahorac.com/event/family-fun-28-29th-april/
CATEGORIES:Family Fun Trip Mountains
END:VEVENT
BEGIN:VEVENT
DTSTART;VALUE=DATE:20230420
DTEND;VALUE=DATE:20230425
DTSTAMP:20260425T160657
CREATED:20230204T163958Z
LAST-MODIFIED:20230204T163958Z
UID:245-1681948800-1682380799@rahorac.com
SUMMARY:Eide Al Fitr 20th-24th April (TBC)
DESCRIPTION:
URL:https://rahorac.com/event/eide-al-fitr-20th-24th-april-tbc/
CATEGORIES:Holidays
END:VEVENT
BEGIN:VEVENT
DTSTART;TZID=UTC:20230402T080000
DTEND;TZID=UTC:20230413T170000
DTSTAMP:20260425T160657
CREATED:20230204T163903Z
LAST-MODIFIED:20230204T163903Z
UID:243-1680422400-1681405200@rahorac.com
SUMMARY:PDO/ BSM Holidays 2nd -13th April
DESCRIPTION:
URL:https://rahorac.com/event/pdo-bsm-holidays-2nd-13th-april/
CATEGORIES:Holidays
END:VEVENT
BEGIN:VEVENT
DTSTART;VALUE=DATE:20230323
DTEND;VALUE=DATE:20230324
DTSTAMP:20260425T160657
CREATED:20230204T163609Z
LAST-MODIFIED:20230204T163609Z
UID:241-1679529600-1679615999@rahorac.com
SUMMARY:Ramadan First Day 23rd March (TBC)
DESCRIPTION:
URL:https://rahorac.com/event/ramadan-first-day-23rd-march-tbc/
CATEGORIES:Holidays
END:VEVENT
BEGIN:VEVENT
DTSTART;TZID=UTC:20230317T180000
DTEND;TZID=UTC:20230317T230000
DTSTAMP:20260425T160657
CREATED:20230202T153240Z
LAST-MODIFIED:20230204T163713Z
UID:62-1679076000-1679094000@rahorac.com
SUMMARY:Wahiba Challenge Celebration Dinner 19th March
DESCRIPTION:This event is included for WC\, WC Lite and XWC participants and family
URL:https://rahorac.com/event/wahiba-challenge-celebration-dinner-19th-march/
LOCATION:Ras Al Hamra RC Golf Club
CATEGORIES:Extreme WC,Wahiba Challenge,WC Dinner,WC Lite
END:VEVENT
BEGIN:VEVENT
DTSTART;VALUE=DATE:20230303
DTEND;VALUE=DATE:20230305
DTSTAMP:20260425T160657
CREATED:20230204T163440Z
LAST-MODIFIED:20230204T163440Z
UID:239-1677801600-1677974399@rahorac.com
SUMMARY:Wahiba Lite and Long 3rd 4th March
DESCRIPTION:
URL:https://rahorac.com/event/wahiba-lite-and-long-3rd-4th-march/
LOCATION:Wahiba Sands
CATEGORIES:Wahiba Challenge,WC Lite
END:VEVENT
BEGIN:VEVENT
DTSTART;VALUE=DATE:20230219
DTEND;VALUE=DATE:20230224
DTSTAMP:20260425T160657
CREATED:20230204T151326Z
LAST-MODIFIED:20230204T151326Z
UID:237-1676764800-1677196799@rahorac.com
SUMMARY:PDO/ BSM School Holidays
DESCRIPTION:
URL:https://rahorac.com/event/pdo-bsm-school-holidays/
CATEGORIES:Holidays
END:VEVENT
END:VCALENDAR