BEGIN:VCALENDAR
VERSION:2.0
PRODID:-//RAHORAC - ECPv6.15.20//NONSGML v1.0//EN
CALSCALE:GREGORIAN
METHOD:PUBLISH
X-WR-CALNAME:RAHORAC
X-ORIGINAL-URL:https://rahorac.com
X-WR-CALDESC:Events for RAHORAC
REFRESH-INTERVAL;VALUE=DURATION:PT1H
X-Robots-Tag:noindex
X-PUBLISHED-TTL:PT1H
BEGIN:VTIMEZONE
TZID:Asia/Dubai
BEGIN:STANDARD
TZOFFSETFROM:+0400
TZOFFSETTO:+0400
TZNAME:+04
DTSTART:20230101T000000
END:STANDARD
END:VTIMEZONE
BEGIN:VTIMEZONE
TZID:UTC
BEGIN:STANDARD
TZOFFSETFROM:+0000
TZOFFSETTO:+0000
TZNAME:UTC
DTSTART:20230101T000000
END:STANDARD
END:VTIMEZONE
BEGIN:VEVENT
DTSTART;VALUE=DATE:20250212
DTEND;VALUE=DATE:20250214
DTSTAMP:20260424T041141
CREATED:20240614T192024Z
LAST-MODIFIED:20240614T192024Z
UID:2268-1739318400-1739491199@rahorac.com
SUMMARY:TLC School Holidays
DESCRIPTION:
URL:https://rahorac.com/event/tlc-school-holidays-2/
CATEGORIES:Holidays
END:VEVENT
BEGIN:VEVENT
DTSTART;VALUE=DATE:20250207
DTEND;VALUE=DATE:20250209
DTSTAMP:20260424T041141
CREATED:20240614T200511Z
LAST-MODIFIED:20250121T132736Z
UID:2300-1738886400-1739059199@rahorac.com
SUMMARY:Extreme Wahiba Challenge
DESCRIPTION:Registration  open between 8th January and 18th January. \nRegistration Link is now closed. \nCheck here for Rules and Regulations for this event.
URL:https://rahorac.com/event/family-fun-trip-wahiba-sands-3/
CATEGORIES:Extreme WC
END:VEVENT
BEGIN:VEVENT
DTSTART;VALUE=DATE:20250131
DTEND;VALUE=DATE:20250202
DTSTAMP:20260424T041141
CREATED:20241217T193502Z
LAST-MODIFIED:20250115T144046Z
UID:2955-1738281600-1738454399@rahorac.com
SUMMARY:Family Fun Trip - Wahiba Sands
DESCRIPTION:Registration for this event is now open \nLink to Page – HERE \nRegistration Link – HERE
URL:https://rahorac.com/event/family-fun-trip-5/
CATEGORIES:Family Fun Trip Wahiba
END:VEVENT
BEGIN:VEVENT
DTSTART;VALUE=DATE:20250127
DTEND;VALUE=DATE:20250128
DTSTAMP:20260424T041141
CREATED:20240614T143544Z
LAST-MODIFIED:20240614T143544Z
UID:2242-1737936000-1738022399@rahorac.com
SUMMARY:Prophets Ascension
DESCRIPTION:
URL:https://rahorac.com/event/prophets-ascension/
CATEGORIES:Holidays
END:VEVENT
BEGIN:VEVENT
DTSTART;VALUE=DATE:20250112
DTEND;VALUE=DATE:20250113
DTSTAMP:20260424T041141
CREATED:20240614T143403Z
LAST-MODIFIED:20240614T143403Z
UID:2240-1736640000-1736726399@rahorac.com
SUMMARY:Sultans Accession
DESCRIPTION:
URL:https://rahorac.com/event/sultans-accession/
CATEGORIES:Holidays
END:VEVENT
BEGIN:VEVENT
DTSTART;VALUE=DATE:20250108
DTEND;VALUE=DATE:20250119
DTSTAMP:20260424T041141
CREATED:20250107T205737Z
LAST-MODIFIED:20250107T205737Z
UID:3008-1736294400-1737244799@rahorac.com
SUMMARY:Extreme Wahiba Challenge - registration
DESCRIPTION:Registration will be open between 8th January and 18th January. \nRegistration Link is  – HERE. \nCheck here for Rules and Regulations for this event.
URL:https://rahorac.com/event/extreme-wahiba-challenge-registration/
CATEGORIES:Extreme WC
END:VEVENT
BEGIN:VEVENT
DTSTART;VALUE=DATE:20250103
DTEND;VALUE=DATE:20250105
DTSTAMP:20260424T041141
CREATED:20240614T201048Z
LAST-MODIFIED:20241212T231515Z
UID:2310-1735862400-1736035199@rahorac.com
SUMMARY:Ladies Trip - Wahiba
DESCRIPTION:Registration for this trip (3rd/ 4th January 2025) is now open. \nRegistration will close at midight 26th December or earlier subject to demand. \nPage link is here – register via QR Code
URL:https://rahorac.com/event/ladies-trip-wahiba/
CATEGORIES:Ladies Trip
END:VEVENT
BEGIN:VEVENT
DTSTART;VALUE=DATE:20241222
DTEND;VALUE=DATE:20250106
DTSTAMP:20260424T041141
CREATED:20240614T191925Z
LAST-MODIFIED:20240614T191925Z
UID:2266-1734825600-1736121599@rahorac.com
SUMMARY:TLC School Holidays
DESCRIPTION:
URL:https://rahorac.com/event/tlc-school-holidays/
CATEGORIES:Holidays
END:VEVENT
BEGIN:VEVENT
DTSTART;VALUE=DATE:20241222
DTEND;VALUE=DATE:20250105
DTSTAMP:20260424T041141
CREATED:20240614T144434Z
LAST-MODIFIED:20240614T144434Z
UID:2248-1734825600-1736035199@rahorac.com
SUMMARY:British School Holidays
DESCRIPTION:
URL:https://rahorac.com/event/british-school-holidays-2/
CATEGORIES:Holidays
END:VEVENT
BEGIN:VEVENT
DTSTART;VALUE=DATE:20241213
DTEND;VALUE=DATE:20241215
DTSTAMP:20260424T041141
CREATED:20240924T193612Z
LAST-MODIFIED:20241129T163556Z
UID:2490-1734048000-1734220799@rahorac.com
SUMMARY:Family Fun trip - Wahiba Sands - CANCELLED
DESCRIPTION:We are sorry to announce that\, due to unforeseen circumstances\, we’ve had to cancel our Family Fun Trip scheduled for the 13th and 14th of December. \n\n We sincerely apologise for any disappointment this may cause and thank you for your understanding. Please keep an eye on our social media channels for updates on the exciting trips we have planned for early 2025.\n\n Thank you for your continued support\, and we look forward to seeing you on our next adventure soon!
URL:https://rahorac.com/event/family-fun-trip-wahiba-sands-4/
CATEGORIES:Family Fun Trip Wahiba
END:VEVENT
BEGIN:VEVENT
DTSTART;VALUE=DATE:20241206
DTEND;VALUE=DATE:20241207
DTSTAMP:20260424T041141
CREATED:20240614T200951Z
LAST-MODIFIED:20240924T193152Z
UID:2308-1733443200-1733529599@rahorac.com
SUMMARY:W Challenge - Dinner
DESCRIPTION:Time to be confirmed
URL:https://rahorac.com/event/wahiba-challenge-dinner/
CATEGORIES:Wahiba Challenge,WC Dinner
END:VEVENT
BEGIN:VEVENT
DTSTART;VALUE=DATE:20241127
DTEND;VALUE=DATE:20241129
DTSTAMP:20260424T041141
CREATED:20240614T143214Z
LAST-MODIFIED:20240614T143232Z
UID:2238-1732665600-1732838399@rahorac.com
SUMMARY:National Day
DESCRIPTION:
URL:https://rahorac.com/event/national-day-2/
CATEGORIES:Holidays
END:VEVENT
BEGIN:VEVENT
DTSTART;VALUE=DATE:20241120
DTEND;VALUE=DATE:20241128
DTSTAMP:20260424T041141
CREATED:20240616T172936Z
LAST-MODIFIED:20240616T172936Z
UID:2330-1732060800-1732751999@rahorac.com
SUMMARY:WC Dinner Registration
DESCRIPTION:
URL:https://rahorac.com/event/wc-dinner-registration/
CATEGORIES:Event Registration
END:VEVENT
BEGIN:VEVENT
DTSTART;VALUE=DATE:20241115
DTEND;VALUE=DATE:20241117
DTSTAMP:20260424T041141
CREATED:20240614T200829Z
LAST-MODIFIED:20240616T164945Z
UID:2306-1731628800-1731801599@rahorac.com
SUMMARY:Wahiba Challenge - Lite
DESCRIPTION:
URL:https://rahorac.com/event/wahiba-challenge-lite/
CATEGORIES:Wahiba Challenge,WC Lite
END:VEVENT
BEGIN:VEVENT
DTSTART;VALUE=DATE:20241115
DTEND;VALUE=DATE:20241117
DTSTAMP:20260424T041141
CREATED:20240614T200730Z
LAST-MODIFIED:20240616T165039Z
UID:2304-1731628800-1731801599@rahorac.com
SUMMARY:Wahiba Challenge
DESCRIPTION:
URL:https://rahorac.com/event/wahiba-challenge-2/
CATEGORIES:Wahiba Challenge
END:VEVENT
BEGIN:VEVENT
DTSTART;VALUE=DATE:20241101
DTEND;VALUE=DATE:20241103
DTSTAMP:20260424T041141
CREATED:20240614T200311Z
LAST-MODIFIED:20240616T164124Z
UID:2295-1730419200-1730591999@rahorac.com
SUMMARY:Family Fun Trip - Wahiba Sands
DESCRIPTION:
URL:https://rahorac.com/event/family-fun-trip-wahiba-sands/
CATEGORIES:Family Fun Trip Wahiba
END:VEVENT
BEGIN:VEVENT
DTSTART;VALUE=DATE:20241020
DTEND;VALUE=DATE:20241027
DTSTAMP:20260424T041141
CREATED:20240614T145748Z
LAST-MODIFIED:20240614T145748Z
UID:2260-1729382400-1729987199@rahorac.com
SUMMARY:British School Holidays
DESCRIPTION:
URL:https://rahorac.com/event/british-school-holidays/
CATEGORIES:Holidays
END:VEVENT
BEGIN:VEVENT
DTSTART;VALUE=DATE:20241020
DTEND;VALUE=DATE:20241027
DTSTAMP:20260424T041141
CREATED:20240614T144020Z
LAST-MODIFIED:20240614T150029Z
UID:2246-1729382400-1729987199@rahorac.com
SUMMARY:TLC School Holidays
DESCRIPTION:
URL:https://rahorac.com/event/pdo-school-holidays-5/
CATEGORIES:Holidays
END:VEVENT
BEGIN:VEVENT
DTSTART;VALUE=DATE:20241011
DTEND;VALUE=DATE:20241013
DTSTAMP:20260424T041141
CREATED:20240614T195841Z
LAST-MODIFIED:20241004T171402Z
UID:2286-1728604800-1728777599@rahorac.com
SUMMARY:Sand Driver Practical Training
DESCRIPTION:Registration is now closed for this event. \nWebsite Page Link HERE \n  \n 
URL:https://rahorac.com/event/sand-driver-practical-training-3/
CATEGORIES:Training
END:VEVENT
BEGIN:VEVENT
DTSTART;VALUE=DATE:20241010
DTEND;VALUE=DATE:20241026
DTSTAMP:20260424T041141
CREATED:20240616T172833Z
LAST-MODIFIED:20240616T172833Z
UID:2328-1728518400-1729900799@rahorac.com
SUMMARY:WC Data Collection
DESCRIPTION:
URL:https://rahorac.com/event/wc-data-collection/
CATEGORIES:Event Registration
END:VEVENT
BEGIN:VEVENT
DTSTART;VALUE=DATE:20241004
DTEND;VALUE=DATE:20241006
DTSTAMP:20260424T041141
CREATED:20240614T200019Z
LAST-MODIFIED:20240924T192816Z
UID:2289-1728000000-1728172799@rahorac.com
SUMMARY:Family Fun Trip - Wadi/ Mountain
DESCRIPTION:Registration is closed due to high demand. \n  \nLink to webpage HERE \n 
URL:https://rahorac.com/event/family-fun-trip-wadi-mountain/
CATEGORIES:Family Fun Trip Wadi/ Mountain
END:VEVENT
BEGIN:VEVENT
DTSTART;VALUE=DATE:20241001
DTEND;VALUE=DATE:20241018
DTSTAMP:20260424T041141
CREATED:20240616T172737Z
LAST-MODIFIED:20240616T172737Z
UID:2326-1727740800-1729209599@rahorac.com
SUMMARY:WC Registration
DESCRIPTION:WC
URL:https://rahorac.com/event/wc-registration/
CATEGORIES:Event Registration
END:VEVENT
BEGIN:VEVENT
DTSTART;VALUE=DATE:20240930
DTEND;VALUE=DATE:20241021
DTSTAMP:20260424T041141
CREATED:20240929T203051Z
LAST-MODIFIED:20240929T203230Z
UID:2563-1727654400-1729468799@rahorac.com
SUMMARY:Wahiba Challenge Wheel Cover Competition opens until 20th October
DESCRIPTION:Competition is open until 20th October midnight. \nWeb page with Video and instructions is HERE
URL:https://rahorac.com/event/wahiba-challenge-wheel-cover-competition-opens/
END:VEVENT
BEGIN:VEVENT
DTSTART;VALUE=DATE:20240924
DTEND;VALUE=DATE:20241001
DTSTAMP:20260424T041141
CREATED:20240616T172430Z
LAST-MODIFIED:20241004T171309Z
UID:2323-1727136000-1727740799@rahorac.com
SUMMARY:Practical Training Registration
DESCRIPTION:Registration is closed
URL:https://rahorac.com/event/sand-driver-practical-training-reg/
CATEGORIES:Event Registration
END:VEVENT
BEGIN:VEVENT
DTSTART;TZID=Asia/Dubai:20240923T190000
DTEND;TZID=Asia/Dubai:20240923T210000
DTSTAMP:20260424T041141
CREATED:20240614T195635Z
LAST-MODIFIED:20240910T115638Z
UID:2282-1727118000-1727125200@rahorac.com
SUMMARY:Sand Driver Theory Training
DESCRIPTION:Registration for this event is now open and will close on 19th September. \nRegister HERE \nWebpage HERE
URL:https://rahorac.com/event/sand-driver-theory-training-2/
CATEGORIES:Training
END:VEVENT
BEGIN:VEVENT
DTSTART;VALUE=DATE:20240915
DTEND;VALUE=DATE:20240916
DTSTAMP:20260424T041141
CREATED:20240614T142804Z
LAST-MODIFIED:20240614T142804Z
UID:2235-1726358400-1726444799@rahorac.com
SUMMARY:Prophets Birthday
DESCRIPTION:
URL:https://rahorac.com/event/prophets-birthday-2/
CATEGORIES:Holidays
END:VEVENT
BEGIN:VEVENT
DTSTART;VALUE=DATE:20240913
DTEND;VALUE=DATE:20240915
DTSTAMP:20260424T041141
CREATED:20240614T195745Z
LAST-MODIFIED:20240908T113427Z
UID:2284-1726185600-1726358399@rahorac.com
SUMMARY:Sand Driver Practical Training
DESCRIPTION:Registration is now closed for this event. Closed 7th September. \nLink to webpage is HERE
URL:https://rahorac.com/event/sand-driver-practical-training-2/
CATEGORIES:Training
END:VEVENT
BEGIN:VEVENT
DTSTART;VALUE=DATE:20240830
DTEND;VALUE=DATE:20240906
DTSTAMP:20260424T041141
CREATED:20240616T170203Z
LAST-MODIFIED:20240908T113318Z
UID:2320-1724976000-1725580799@rahorac.com
SUMMARY:Practical Training Registration
DESCRIPTION:Registration is now closed for this event. Closed 7th September. \nLink to webpage is HERE
URL:https://rahorac.com/event/practical-training-registration/
CATEGORIES:Event Registration
END:VEVENT
BEGIN:VEVENT
DTSTART;TZID=Asia/Dubai:20240826T190000
DTEND;TZID=Asia/Dubai:20240826T210000
DTSTAMP:20260424T041141
CREATED:20240614T195545Z
LAST-MODIFIED:20240807T160225Z
UID:2280-1724698800-1724706000@rahorac.com
SUMMARY:Sand Driver Theory Training
DESCRIPTION:Online registration is now open for this event and will close at midnight 19th August. \nRegister HERE \nWeb Page HERE
URL:https://rahorac.com/event/sand-driver-theory-training/
LOCATION:Ras Al Hamra RC Golf Club
CATEGORIES:Training
END:VEVENT
BEGIN:VEVENT
DTSTART;VALUE=DATE:20240616
DTEND;VALUE=DATE:20240619
DTSTAMP:20260424T041141
CREATED:20230704T154705Z
LAST-MODIFIED:20230704T154705Z
UID:765-1718496000-1718755199@rahorac.com
SUMMARY:BSM Holidays
DESCRIPTION:
URL:https://rahorac.com/event/bsm-holidays/
CATEGORIES:Holidays
END:VEVENT
END:VCALENDAR