BEGIN:VCALENDAR
VERSION:2.0
PRODID:-//RAHORAC - ECPv6.15.20//NONSGML v1.0//EN
CALSCALE:GREGORIAN
METHOD:PUBLISH
X-WR-CALNAME:RAHORAC
X-ORIGINAL-URL:https://rahorac.com
X-WR-CALDESC:Events for RAHORAC
REFRESH-INTERVAL;VALUE=DURATION:PT1H
X-Robots-Tag:noindex
X-PUBLISHED-TTL:PT1H
BEGIN:VTIMEZONE
TZID:Asia/Dubai
BEGIN:STANDARD
TZOFFSETFROM:+0400
TZOFFSETTO:+0400
TZNAME:+04
DTSTART:20230101T000000
END:STANDARD
END:VTIMEZONE
BEGIN:VEVENT
DTSTART;VALUE=DATE:20241206
DTEND;VALUE=DATE:20241207
DTSTAMP:20260424T174744
CREATED:20240614T200951Z
LAST-MODIFIED:20240924T193152Z
UID:2308-1733443200-1733529599@rahorac.com
SUMMARY:W Challenge - Dinner
DESCRIPTION:Time to be confirmed
URL:https://rahorac.com/event/wahiba-challenge-dinner/
CATEGORIES:Wahiba Challenge,WC Dinner
END:VEVENT
BEGIN:VEVENT
DTSTART;VALUE=DATE:20241213
DTEND;VALUE=DATE:20241215
DTSTAMP:20260424T174744
CREATED:20240924T193612Z
LAST-MODIFIED:20241129T163556Z
UID:2490-1734048000-1734220799@rahorac.com
SUMMARY:Family Fun trip - Wahiba Sands - CANCELLED
DESCRIPTION:We are sorry to announce that\, due to unforeseen circumstances\, we’ve had to cancel our Family Fun Trip scheduled for the 13th and 14th of December. \n\n We sincerely apologise for any disappointment this may cause and thank you for your understanding. Please keep an eye on our social media channels for updates on the exciting trips we have planned for early 2025.\n\n Thank you for your continued support\, and we look forward to seeing you on our next adventure soon!
URL:https://rahorac.com/event/family-fun-trip-wahiba-sands-4/
CATEGORIES:Family Fun Trip Wahiba
END:VEVENT
BEGIN:VEVENT
DTSTART;VALUE=DATE:20241222
DTEND;VALUE=DATE:20250105
DTSTAMP:20260424T174744
CREATED:20240614T144434Z
LAST-MODIFIED:20240614T144434Z
UID:2248-1734825600-1736035199@rahorac.com
SUMMARY:British School Holidays
DESCRIPTION:
URL:https://rahorac.com/event/british-school-holidays-2/
CATEGORIES:Holidays
END:VEVENT
BEGIN:VEVENT
DTSTART;VALUE=DATE:20241222
DTEND;VALUE=DATE:20250106
DTSTAMP:20260424T174744
CREATED:20240614T191925Z
LAST-MODIFIED:20240614T191925Z
UID:2266-1734825600-1736121599@rahorac.com
SUMMARY:TLC School Holidays
DESCRIPTION:
URL:https://rahorac.com/event/tlc-school-holidays/
CATEGORIES:Holidays
END:VEVENT
END:VCALENDAR