BEGIN:VCALENDAR
VERSION:2.0
PRODID:-//RAHORAC - ECPv6.15.20//NONSGML v1.0//EN
CALSCALE:GREGORIAN
METHOD:PUBLISH
X-WR-CALNAME:RAHORAC
X-ORIGINAL-URL:https://rahorac.com
X-WR-CALDESC:Events for RAHORAC
REFRESH-INTERVAL;VALUE=DURATION:PT1H
X-Robots-Tag:noindex
X-PUBLISHED-TTL:PT1H
BEGIN:VTIMEZONE
TZID:Asia/Dubai
BEGIN:STANDARD
TZOFFSETFROM:+0400
TZOFFSETTO:+0400
TZNAME:+04
DTSTART:20240101T000000
END:STANDARD
END:VTIMEZONE
BEGIN:VEVENT
DTSTART;VALUE=DATE:20250131
DTEND;VALUE=DATE:20250202
DTSTAMP:20260424T124845
CREATED:20241217T193502Z
LAST-MODIFIED:20250115T144046Z
UID:2955-1738281600-1738454399@rahorac.com
SUMMARY:Family Fun Trip - Wahiba Sands
DESCRIPTION:Registration for this event is now open \nLink to Page – HERE \nRegistration Link – HERE
URL:https://rahorac.com/event/family-fun-trip-5/
CATEGORIES:Family Fun Trip Wahiba
END:VEVENT
BEGIN:VEVENT
DTSTART;VALUE=DATE:20250207
DTEND;VALUE=DATE:20250209
DTSTAMP:20260424T124846
CREATED:20240614T200511Z
LAST-MODIFIED:20250121T132736Z
UID:2300-1738886400-1739059199@rahorac.com
SUMMARY:Extreme Wahiba Challenge
DESCRIPTION:Registration  open between 8th January and 18th January. \nRegistration Link is now closed. \nCheck here for Rules and Regulations for this event.
URL:https://rahorac.com/event/family-fun-trip-wahiba-sands-3/
CATEGORIES:Extreme WC
END:VEVENT
BEGIN:VEVENT
DTSTART;VALUE=DATE:20250212
DTEND;VALUE=DATE:20250214
DTSTAMP:20260424T124846
CREATED:20240614T192024Z
LAST-MODIFIED:20240614T192024Z
UID:2268-1739318400-1739491199@rahorac.com
SUMMARY:TLC School Holidays
DESCRIPTION:
URL:https://rahorac.com/event/tlc-school-holidays-2/
CATEGORIES:Holidays
END:VEVENT
BEGIN:VEVENT
DTSTART;VALUE=DATE:20250214
DTEND;VALUE=DATE:20250223
DTSTAMP:20260424T124846
CREATED:20240614T144649Z
LAST-MODIFIED:20240614T144649Z
UID:2250-1739491200-1740268799@rahorac.com
SUMMARY:British School Holidays
DESCRIPTION:
URL:https://rahorac.com/event/british-school-holidays-3/
CATEGORIES:Holidays
END:VEVENT
BEGIN:VEVENT
DTSTART;VALUE=DATE:20250221
DTEND;VALUE=DATE:20250223
DTSTAMP:20260424T124846
CREATED:20240614T200203Z
LAST-MODIFIED:20250220T152030Z
UID:2293-1740096000-1740268799@rahorac.com
SUMMARY:Family Fun Trip - Wadi Trip
DESCRIPTION:The next Family Fun Trip will run on 21st February to Wadi Al Khoud. \nRegistration is closed \nCheck Rules/ Regulations/ Requirements here
URL:https://rahorac.com/event/family-fun-trip-wadi-mountain-3/
CATEGORIES:Family Fun Trip Wadi/ Mountain
END:VEVENT
BEGIN:VEVENT
DTSTART;VALUE=DATE:20250224
DTEND;VALUE=DATE:20250225
DTSTAMP:20260424T124846
CREATED:20240614T144741Z
LAST-MODIFIED:20240614T144741Z
UID:2252-1740355200-1740441599@rahorac.com
SUMMARY:British School Holiday
DESCRIPTION:
URL:https://rahorac.com/event/british-school-holiday/
CATEGORIES:Holidays
END:VEVENT
BEGIN:VEVENT
DTSTART;VALUE=DATE:20250227
DTEND;VALUE=DATE:20250228
DTSTAMP:20260424T124846
CREATED:20240614T144825Z
LAST-MODIFIED:20240614T144825Z
UID:2254-1740614400-1740700799@rahorac.com
SUMMARY:British School Holiday
DESCRIPTION:
URL:https://rahorac.com/event/british-school-holiday-2/
CATEGORIES:Holidays
END:VEVENT
BEGIN:VEVENT
DTSTART;VALUE=DATE:20250227
DTEND;VALUE=DATE:20250228
DTSTAMP:20260424T124846
CREATED:20240614T192711Z
LAST-MODIFIED:20240614T192711Z
UID:2276-1740614400-1740700799@rahorac.com
SUMMARY:PDO School Holiday
DESCRIPTION:
URL:https://rahorac.com/event/pdo-school-holiday-2/
CATEGORIES:Holidays
END:VEVENT
BEGIN:VEVENT
DTSTART;VALUE=DATE:20250228
DTEND;VALUE=DATE:20250401
DTSTAMP:20260424T124846
CREATED:20240614T193405Z
LAST-MODIFIED:20240614T193754Z
UID:2278-1740700800-1743465599@rahorac.com
SUMMARY:Ramadan
DESCRIPTION:
URL:https://rahorac.com/event/ramadan-2/
CATEGORIES:Ramadan
END:VEVENT
END:VCALENDAR