BEGIN:VCALENDAR
VERSION:2.0
PRODID:-//RAHORAC - ECPv6.15.20//NONSGML v1.0//EN
CALSCALE:GREGORIAN
METHOD:PUBLISH
X-ORIGINAL-URL:https://rahorac.com
X-WR-CALDESC:Events for RAHORAC
REFRESH-INTERVAL;VALUE=DURATION:PT1H
X-Robots-Tag:noindex
X-PUBLISHED-TTL:PT1H
BEGIN:VTIMEZONE
TZID:Asia/Dubai
BEGIN:STANDARD
TZOFFSETFROM:+0400
TZOFFSETTO:+0400
TZNAME:+04
DTSTART:20240101T000000
END:STANDARD
END:VTIMEZONE
BEGIN:VEVENT
DTSTART;VALUE=DATE:20251003
DTEND;VALUE=DATE:20251005
DTSTAMP:20260424T024413
CREATED:20250721T213807Z
LAST-MODIFIED:20250921T121002Z
UID:3632-1759449600-1759622399@rahorac.com
SUMMARY:Family Fun Mountain Trip
DESCRIPTION:Registration is now open \nRegister HERE \nLik to web page HERE
URL:https://rahorac.com/event/family-fun-mountain-trip/
CATEGORIES:Family Fun Trip Mountains
END:VEVENT
BEGIN:VEVENT
DTSTART;VALUE=DATE:20251010
DTEND;VALUE=DATE:20251012
DTSTAMP:20260424T024413
CREATED:20250721T213922Z
LAST-MODIFIED:20250925T143939Z
UID:3634-1760054400-1760227199@rahorac.com
SUMMARY:Sand Driver Practical Training
DESCRIPTION:Registration is now open. \nGo to Web Page HERE \nGo to Registration HERE
URL:https://rahorac.com/event/sand-driver-practical-training-5/
CATEGORIES:Training
END:VEVENT
BEGIN:VEVENT
DTSTART;VALUE=DATE:20251031
DTEND;VALUE=DATE:20251102
DTSTAMP:20260424T024413
CREATED:20250721T214111Z
LAST-MODIFIED:20250721T214111Z
UID:3636-1761868800-1762041599@rahorac.com
SUMMARY:Family Fun Wahiba Sands
DESCRIPTION:
URL:https://rahorac.com/event/family-fun-wahiba-sands/
CATEGORIES:Family Fun Trip Wahiba
END:VEVENT
END:VCALENDAR